BEGIN:VCALENDAR
VERSION:2.0
PRODID:-//Johann Strauss Apotheke - ECPv6.15.20//NONSGML v1.0//EN
CALSCALE:GREGORIAN
METHOD:PUBLISH
X-WR-CALNAME:Johann Strauss Apotheke
X-ORIGINAL-URL:https://johann-strauss-apotheke.at
X-WR-CALDESC:Veranstaltungen für Johann Strauss Apotheke
REFRESH-INTERVAL;VALUE=DURATION:PT1H
X-Robots-Tag:noindex
X-PUBLISHED-TTL:PT1H
BEGIN:VTIMEZONE
TZID:Europe/Vienna
BEGIN:DAYLIGHT
TZOFFSETFROM:+0100
TZOFFSETTO:+0200
TZNAME:CEST
DTSTART:20240331T010000
END:DAYLIGHT
BEGIN:STANDARD
TZOFFSETFROM:+0200
TZOFFSETTO:+0100
TZNAME:CET
DTSTART:20241027T010000
END:STANDARD
BEGIN:DAYLIGHT
TZOFFSETFROM:+0100
TZOFFSETTO:+0200
TZNAME:CEST
DTSTART:20250330T010000
END:DAYLIGHT
BEGIN:STANDARD
TZOFFSETFROM:+0200
TZOFFSETTO:+0100
TZNAME:CET
DTSTART:20251026T010000
END:STANDARD
BEGIN:DAYLIGHT
TZOFFSETFROM:+0100
TZOFFSETTO:+0200
TZNAME:CEST
DTSTART:20260329T010000
END:DAYLIGHT
BEGIN:STANDARD
TZOFFSETFROM:+0200
TZOFFSETTO:+0100
TZNAME:CET
DTSTART:20261025T010000
END:STANDARD
END:VTIMEZONE
BEGIN:VEVENT
DTSTART;TZID=Europe/Vienna:20250305T183000
DTEND;TZID=Europe/Vienna:20250305T203000
DTSTAMP:20260423T194059
CREATED:20250304T135619Z
LAST-MODIFIED:20250304T135750Z
UID:5438-1741199400-1741206600@johann-strauss-apotheke.at
SUMMARY:Bunte Pillen schmecken besser!
DESCRIPTION:Im Frühjahr hat Mag. pharm. Manuel Wendl die Johann Strauss Apotheke in 1040 Wien übernommen und fokussiert seither die Betreuung der LGBTQIA+ Community. Darunter HIV-Patient:innen und trans*Personen. Bei dieser Business Lounge erzählt uns der Pharmazeut von den Herausforderungen bei der Neuausrichtung des Unternehmens. \nOffene und kostenlose Veranstaltung\, begrenztes Platzangebot\, Anmeldungen: info@apro.at
URL:https://johann-strauss-apotheke.at/event/bunte-pillen-schmecken-besser/
LOCATION:Apotheke
ORGANIZER;CN="Johann Strauss Apotheke":MAILTO:office@johann-strauss-apotheke.at
END:VEVENT
BEGIN:VEVENT
DTSTART;TZID=Europe/Vienna:20250306T180000
DTEND;TZID=Europe/Vienna:20250306T200000
DTSTAMP:20260423T194059
CREATED:20250304T140000Z
LAST-MODIFIED:20250304T141909Z
UID:5442-1741284000-1741291200@johann-strauss-apotheke.at
SUMMARY:STIs\, PrEP/PEP Workshop für trans*inter*nicht binäre Personen
DESCRIPTION:Am 06.03.2025 von 18:00 bis 20:00 Uhr lädt die Johann Strauss Apotheke in der Johann-Strauß-Gasse 32\, 1040 Wien zu einem kostenlosen Workshop ein\, der sich speziell an trans*inter*nicht binäre Personen richtet. In diesem Workshop\, gehalten von Mag.a Dominique Schibler\, Mag. Thomas Baumgartner und BA Sissi Gräf\, wird es um sexuell übertragbare Infektionen (STIs)\, PEP und PrEP gehen. Der Workshop bietet einen sicheren Raum für Aufklärung\, Diskussionen\, Austausch und Vernetzung. Da die Plätze begrenzt sind\, wird um vorherige Anmeldung gebeten. Zudem ist die Apotheke nur bedingt barrierefrei\, daher sollten Interessierte im Vorfeld Informationen einholen unter +43 1 505 24 64 oder per E-Mail an transbuddy@johann-strauss-apotheke.at.
URL:https://johann-strauss-apotheke.at/event/stis-prep-pep-workshop-fuer-transinternicht-binaere-personen/
LOCATION:Apotheke
ORGANIZER;CN="Johann Strauss Apotheke":MAILTO:office@johann-strauss-apotheke.at
END:VEVENT
BEGIN:VEVENT
DTSTART;TZID=Europe/Vienna:20250307T190000
DTEND;TZID=Europe/Vienna:20250308T080000
DTSTAMP:20260423T194059
CREATED:20250106T180106Z
LAST-MODIFIED:20250106T180106Z
UID:5081-1741374000-1741420800@johann-strauss-apotheke.at
SUMMARY:Apotheken-Bereitschaftsdienst
DESCRIPTION:Wir sind heute im Apotheken-Bereitschaftsdienst für Sie da. Durch Bereitschaftsdienste wird die Versorgung der Bevölkerung mit dringend benötigten Medikamenten zu jeder Tages- und Nachtzeit sichergestellt. Kommen Sie vorbei und lassen Sie sich persönlich und kompetent beraten. Wir freuen uns auf Ihren Besuch.
URL:https://johann-strauss-apotheke.at/event/apotheken-bereitschaftsdienst-36/
LOCATION:Apotheke
CATEGORIES:Apotheken-Bereitschaftsdienst
ORGANIZER;CN="Johann Strauss Apotheke":MAILTO:office@johann-strauss-apotheke.at
END:VEVENT
BEGIN:VEVENT
DTSTART;TZID=Europe/Vienna:20250318T190000
DTEND;TZID=Europe/Vienna:20250319T080000
DTSTAMP:20260423T194059
CREATED:20250106T180149Z
LAST-MODIFIED:20250106T180149Z
UID:5083-1742324400-1742371200@johann-strauss-apotheke.at
SUMMARY:Apotheken-Bereitschaftsdienst
DESCRIPTION:Wir sind heute im Apotheken-Bereitschaftsdienst für Sie da. Durch Bereitschaftsdienste wird die Versorgung der Bevölkerung mit dringend benötigten Medikamenten zu jeder Tages- und Nachtzeit sichergestellt. Kommen Sie vorbei und lassen Sie sich persönlich und kompetent beraten. Wir freuen uns auf Ihren Besuch.
URL:https://johann-strauss-apotheke.at/event/apotheken-bereitschaftsdienst-37/
LOCATION:Apotheke
CATEGORIES:Apotheken-Bereitschaftsdienst
ORGANIZER;CN="Johann Strauss Apotheke":MAILTO:office@johann-strauss-apotheke.at
END:VEVENT
BEGIN:VEVENT
DTSTART;TZID=Europe/Vienna:20250329T120000
DTEND;TZID=Europe/Vienna:20250330T080000
DTSTAMP:20260423T194059
CREATED:20250106T180229Z
LAST-MODIFIED:20250106T180229Z
UID:5085-1743249600-1743321600@johann-strauss-apotheke.at
SUMMARY:Apotheken-Bereitschaftsdienst
DESCRIPTION:Wir sind heute im Apotheken-Bereitschaftsdienst für Sie da. Durch Bereitschaftsdienste wird die Versorgung der Bevölkerung mit dringend benötigten Medikamenten zu jeder Tages- und Nachtzeit sichergestellt. Kommen Sie vorbei und lassen Sie sich persönlich und kompetent beraten. Wir freuen uns auf Ihren Besuch.
URL:https://johann-strauss-apotheke.at/event/apotheken-bereitschaftsdienst-38/
LOCATION:Apotheke
CATEGORIES:Apotheken-Bereitschaftsdienst
ORGANIZER;CN="Johann Strauss Apotheke":MAILTO:office@johann-strauss-apotheke.at
END:VEVENT
END:VCALENDAR